BEGIN:VCALENDAR
VERSION:2.0
PRODID:-//https://www.browardmpo.org///NONSGML kigkonsult.se iCalcreator 2.10.15//
METHOD:PUBLISH
BEGIN:VEVENT
UID:20260421T121610UTC-3638bdVHmv@https://www.browardmpo.org/
DTSTAMP:20260421T121610Z
DESCRIPTION: https://www.browardmpo.org/calendar/event/1463-2050-mtp-call-f
 or-projects-meeting-with-parkland
DTSTART:20230310T160000Z
DTEND:20230310T170000Z
LOCATION:Broward MPO Office - Executive Conference Room ( 100 West Cypress 
 Creek Road\, 6th Floor\, Suite 650\, Fort Lauderdale\, FL 33309-2112)
SUMMARY:2050 MTP Call for Projects Meeting with Parkland
URL:https://www.browardmpo.org/calendar/event/1463-2050-mtp-call-for-projec
 ts-meeting-with-parkland
END:VEVENT
BEGIN:VEVENT
UID:20260421T121610UTC-3639Kv49Nn@https://www.browardmpo.org/
DTSTAMP:20260421T121610Z
DESCRIPTION: https://www.browardmpo.org/calendar/event/1464-2050-mtp-call-f
 or-projects-meeting-with-coral-springs
DTSTART:20230310T183000Z
DTEND:20230310T193000Z
LOCATION:Broward MPO Office - Executive Conference Room ( 100 West Cypress 
 Creek Road\, 6th Floor\, Suite 650\, Fort Lauderdale\, FL 33309-2112)
SUMMARY:2050 MTP Call for Projects Meeting with Coral Springs
URL:https://www.browardmpo.org/calendar/event/1464-2050-mtp-call-for-projec
 ts-meeting-with-coral-springs
END:VEVENT
BEGIN:VEVENT
UID:20260421T121610UTC-36394PJPTE@https://www.browardmpo.org/
DTSTAMP:20260421T121610Z
DESCRIPTION: https://www.browardmpo.org/calendar/event/1465-2050-mtp-call-f
 or-projects-meeting-with-fort-lauderdale
DTSTART:20230310T193000Z
DTEND:20230310T203000Z
LOCATION:Broward MPO Office - Executive Conference Room ( 100 West Cypress 
 Creek Road\, 6th Floor\, Suite 650\, Fort Lauderdale\, FL 33309-2112)
SUMMARY:2050 MTP Call for Projects Meeting with Fort Lauderdale
URL:https://www.browardmpo.org/calendar/event/1465-2050-mtp-call-for-projec
 ts-meeting-with-fort-lauderdale
END:VEVENT
END:VCALENDAR
