BEGIN:VCALENDAR
VERSION:2.0
PRODID:-//https://www.browardmpo.org///NONSGML kigkonsult.se iCalcreator 2.10.15//
METHOD:PUBLISH
BEGIN:VEVENT
UID:20260421T140506UTC-34173e7cOV@https://www.browardmpo.org/
DTSTAMP:20260421T140506Z
DESCRIPTION:Register in advance for this webinar:&nbsp\;https://us02web.zoo
 m.us/webinar/register/4016947193517/WN_IqOOfW8FR1mLA3kJwqLqZg\nAfter regis
 tering\, you will receive a confirmation email containing information abou
 t joining the webinar. https://www.browardmpo.org/calendar/event/1405-mpo-
 executive-committee
DTSTART:20230309T140000Z
DTEND:20230309T143000Z
LOCATION:Broward MPO Office - Board Room ( 100 West Cypress Creek Road\, 6t
 h Floor\, Suite 650\, Fort Lauderdale\, FL 33309-2112)
SUMMARY:MPO Executive Committee
URL:https://www.browardmpo.org/calendar/event/1405-mpo-executive-committee
END:VEVENT
BEGIN:VEVENT
UID:20260421T140506UTC-3418tHxWLJ@https://www.browardmpo.org/
DTSTAMP:20260421T140506Z
DESCRIPTION: https://www.browardmpo.org/calendar/event/1417-mpo-board-meeti
 ng
DTSTART:20230309T143000Z
DTEND:20230310T043000Z
LOCATION:Broward MPO Office - Board Room ( 100 West Cypress Creek Road\, 6t
 h Floor\, Suite 650\, Fort Lauderdale\, FL 33309-2112)
SUMMARY:MPO Board Meeting
URL:https://www.browardmpo.org/calendar/event/1417-mpo-board-meeting
END:VEVENT
BEGIN:VEVENT
UID:20260421T140506UTC-3419SRFVse@https://www.browardmpo.org/
DTSTAMP:20260421T140506Z
DESCRIPTION: https://www.browardmpo.org/calendar/event/1428-canceled-metro-
 transportation-engineering-construction-cooperative-mtecc-board-meeting
DTSTART:20230309T160000Z
DTEND:20230309T170000Z
LOCATION:Broward MPO Office - Executive Conference Room ( 100 West Cypress 
 Creek Road\, 6th Floor\, Suite 650\, Fort Lauderdale\, FL 33309-2112)
SUMMARY:CANCELED - Metro Transportation Engineering & Construction Cooperat
 ive (MTECC) Board Meeting
URL:https://www.browardmpo.org/calendar/event/1428-canceled-metro-transport
 ation-engineering-construction-cooperative-mtecc-board-meeting
END:VEVENT
BEGIN:VEVENT
UID:20260421T140506UTC-3419BaVKio@https://www.browardmpo.org/
DTSTAMP:20260421T140506Z
DESCRIPTION: https://www.browardmpo.org/calendar/event/1461-2050-mtp-call-f
 or-projects-meeting-with-cooper-city
DTSTART:20230309T190000Z
DTEND:20230309T200000Z
LOCATION:Broward MPO Office - Executive Conference Room ( 100 West Cypress 
 Creek Road\, 6th Floor\, Suite 650\, Fort Lauderdale\, FL 33309-2112)
SUMMARY:2050 MTP Call for Projects Meeting with Cooper City
URL:https://www.browardmpo.org/calendar/event/1461-2050-mtp-call-for-projec
 ts-meeting-with-cooper-city
END:VEVENT
BEGIN:VEVENT
UID:20260421T140506UTC-3420lm8NZU@https://www.browardmpo.org/
DTSTAMP:20260421T140506Z
DESCRIPTION: https://www.browardmpo.org/calendar/event/1471-2050-mtp-call-f
 or-projects-meeting-with-deerfield-beach
DTSTART:20230309T180000Z
DTEND:20230309T190000Z
LOCATION:Broward MPO Office - Executive Conference Room ( 100 West Cypress 
 Creek Road\, 6th Floor\, Suite 650\, Fort Lauderdale\, FL 33309-2112)
SUMMARY:2050 MTP Call for Projects Meeting with Deerfield Beach
URL:https://www.browardmpo.org/calendar/event/1471-2050-mtp-call-for-projec
 ts-meeting-with-deerfield-beach
END:VEVENT
END:VCALENDAR
