BEGIN:VCALENDAR
VERSION:2.0
PRODID:-//https://www.browardmpo.org///NONSGML kigkonsult.se iCalcreator 2.10.15//
METHOD:PUBLISH
BEGIN:VEVENT
UID:20260423T105425UTC-4797nxFiZM@https://www.browardmpo.org/
DTSTAMP:20260423T105425Z
DESCRIPTION:{module title='For More Information - Christopher Bross'} https
 ://www.browardmpo.org/calendar/event/1315-opening-of-sealed-offers-for-rfq
 -no-22-01-general-planning-consultant-services
DTSTART:20220308T211500Z
DTEND:20220308T214500Z
LOCATION:Broward MPO Office - Board Room ( 100 West Cypress Creek Road\, 6t
 h Floor\, Suite 650\, Fort Lauderdale\, FL 33309-2112)
SUMMARY:Opening of Sealed Offers for RFQ No. 22-01 General Planning Consult
 ant Services
URL:https://www.browardmpo.org/calendar/event/1315-opening-of-sealed-offers
 -for-rfq-no-22-01-general-planning-consultant-services
END:VEVENT
BEGIN:VEVENT
UID:20260423T105425UTC-4798lbf7uT@https://www.browardmpo.org/
DTSTAMP:20260423T105425Z
DESCRIPTION:The Broward MPO team will conduct the first planning committee 
 meeting of the year to begin inter-agency coordination and partnerships to
 wards a Ciclovia event.&nbsp\; To register to attend the meeting visit&nbs
 p\;\nhttps://us02web.zoom.us/meeting/register/tZIpdu6vqD8jGdczfNHmHITrRdfC
 8oWJmeRV.\nPlease feel free to extend this invitation to anyone you consid
 er should join this conversation.\n&nbsp\;\n{module title='For More Inform
 ation - Stephanie Garcia'} https://www.browardmpo.org/calendar/event/1316-
 broward-ciclovia-planning-committee
DTSTART;VALUE=DATE:20220308
LOCATION:Zoom Virtual Meeting (100 West Cypress Creek Road)
SUMMARY:Broward Ciclovia Planning Committee
URL:https://www.browardmpo.org/calendar/event/1316-broward-ciclovia-plannin
 g-committee
END:VEVENT
END:VCALENDAR
