BEGIN:VCALENDAR
VERSION:2.0
PRODID:-//https://www.browardmpo.org///NONSGML kigkonsult.se iCalcreator 2.10.15//
METHOD:PUBLISH
BEGIN:VEVENT
UID:20260422T103829UTC-1436uuNZvT@https://www.browardmpo.org/
DTSTAMP:20260422T103829Z
DESCRIPTION:\nIn December 2021\, The Broward MPO selected NE 15th Avenue (b
 etween NE 11th Street and NE 13th Street) located in the City of Fort Laud
 erdale to be implemented as the second pilot project of the BTactical prog
 ram in 2022.\nA virtual workshop will be conducted to discuss the project 
 ideas and request feedback from the community regarding the Art component 
 of the project. &nbsp\;All community members are welcome to participate in
  this unique opportunity to help the City transform NE 15th&nbsp\;Avenue i
 nto a better street for everyone!\nTo stay tuned and receive the most rece
 nt information about this project\, please visit:&nbsp\;https://arcg.is/1W
 T4LL0\nTo register for the virtual workshop\, please visit:&nbsp\;https://
 us02web.zoom.us/webinar/register/WN_DLizrljzSpipYZNK5ZJxEA\nTo learn more 
 about the BTactical program\, visit:&nbsp\;https://www.browardmpo.org/tact
 ical-urbanism\n&nbsp\;\n{module title='For More Information - Stephanie Ga
 rcia'} https://www.browardmpo.org/calendar/event/1314-btactical-lake-ridge
 -virtual-workshop
DTSTART:20220222T230000Z
DTEND:20220223T000000Z
LOCATION:Zoom Virtual Meeting (100 West Cypress Creek Road)
SUMMARY:BTactical Lake Ridge Virtual Workshop
URL:https://www.browardmpo.org/calendar/event/1314-btactical-lake-ridge-vir
 tual-workshop
END:VEVENT
END:VCALENDAR
