BEGIN:VCALENDAR
VERSION:2.0
PRODID:-//https://www.browardmpo.org///NONSGML kigkonsult.se iCalcreator 2.10.15//
METHOD:PUBLISH
BEGIN:VEVENT
UID:20260422T003027UTC-7608GsH79i@https://www.browardmpo.org/
DTSTAMP:20260422T003027Z
DESCRIPTION:{module For More Information - Christopher Bross} https://www.b
 rowardmpo.org/calendar/event/1301-trc-evaluation-selection-committee-meeti
 ng-for-rfp-no-22-02-consultant-services-for-advancing-strategic-initiative
 s
DTSTART:20220216T190000Z
DTEND:20220216T210000Z
LOCATION:Broward MPO Office - Board Room ( 100 West Cypress Creek Road\, 6t
 h Floor\, Suite 650\, Fort Lauderdale\, FL 33309-2112)
SUMMARY:TRC Evaluation/Selection Committee Meeting for RFP No. 22-02 Consul
 tant Services for Advancing Strategic Initiatives
URL:https://www.browardmpo.org/calendar/event/1301-trc-evaluation-selection
 -committee-meeting-for-rfp-no-22-02-consultant-services-for-advancing-stra
 tegic-initiatives
END:VEVENT
END:VCALENDAR
