BEGIN:VCALENDAR
VERSION:2.0
PRODID:-//https://www.browardmpo.org///NONSGML kigkonsult.se iCalcreator 2.10.15//
METHOD:PUBLISH
BEGIN:VEVENT
UID:20260423T003032UTC-56170og1ds@https://www.browardmpo.org/
DTSTAMP:20260423T003032Z
DESCRIPTION:&nbsp\;\n\n{module For More Information - Charlene Burke} https
 ://www.browardmpo.org/calendar/event/935-local-coordinating-board-lcb-publ
 ic-workshop
DTSTART:20200127T190000Z
DTEND:20200127T200000Z
LOCATION:Broward MPO Office - Board Room ( 100 West Cypress Creek Road\, 6t
 h Floor\, Suite 650\, Fort Lauderdale\, FL 33309-2112)
SUMMARY:Local Coordinating Board (LCB) Public Workshop
URL:https://www.browardmpo.org/calendar/event/935-local-coordinating-board-
 lcb-public-workshop
END:VEVENT
BEGIN:VEVENT
UID:20260423T003032UTC-56180xCUPv@https://www.browardmpo.org/
DTSTAMP:20260423T003032Z
DESCRIPTION: https://www.browardmpo.org/calendar/event/984-local-coordinati
 ng-board-lcb-regular-business-meeting
DTSTART:20200127T200000Z
DTEND:20200127T210000Z
LOCATION:Broward MPO Office (100 West Cypress Creek Road)
SUMMARY:Local Coordinating Board (LCB) Regular Business Meeting
URL:https://www.browardmpo.org/calendar/event/984-local-coordinating-board-
 lcb-regular-business-meeting
END:VEVENT
END:VCALENDAR
